BEGIN:VCALENDAR
VERSION:2.0
PRODID:-//ChurchDev//Events//EN
CALSCALE:GREGORIAN
METHOD:PUBLISH
BEGIN:VEVENT
UID:2922-20230218@www.stmarkicc.org
SUMMARY:R.E.S.E.T Women&#8217\;s Ministry via Zoom ID: 437 729 0533 PW: stmarkicc8
DTSTART:20230218T170000Z
DTEND:20230218T180000Z
DESCRIPTION:https://www.stmarkicc.org/events/daughters-of-esther-womens-ministry/
LOCATION:Maywood\, IL 
URL:https://www.stmarkicc.org/events/daughters-of-esther-womens-ministry/
DTSTAMP:20260419T211354Z
END:VEVENT
END:VCALENDAR
