BEGIN:VCALENDAR
VERSION:2.0
PRODID:-//ChurchDev//Events//EN
CALSCALE:GREGORIAN
METHOD:PUBLISH
BEGIN:VEVENT
UID:2921-20230204@www.stmarkicc.org
SUMMARY:GENERATION neXt YOUTH MINISTRY via Zoom ID: 437 729 0533 PW: stmarkicc8
DTSTART:20230204T160000Z
DTEND:20230204T170000Z
DESCRIPTION:https://www.stmarkicc.org/events/smicc-youth-ministry/
LOCATION:Maywood\, IL 
URL:https://www.stmarkicc.org/events/smicc-youth-ministry/
DTSTAMP:20260419T211021Z
END:VEVENT
END:VCALENDAR
